BEGIN:VCALENDAR
PRODID:-//eluceo/ical//2.0/EN
VERSION:2.0
CALSCALE:GREGORIAN
BEGIN:VEVENT
UID:0cb349e844a943d007d684648a077d0a
DTSTAMP:20260420T101342Z
SUMMARY:Rotariana
DESCRIPTION:Talare: Gunnar Ståhl
URL:https://rodon.rotaryklubb.org/sv/agenda/show/218351
DTSTART;TZID=Europe/Zurich:20260420T190000
DTEND;TZID=Europe/Zurich:20260420T203000
LOCATION:Café Bönan\, Offerdalsv 11\, Ingång från baksidan\, 83522 Krok
 om\, Sverige
CATEGORIES:Rotary
END:VEVENT
BEGIN:VTIMEZONE
TZID:Europe/Zurich
BEGIN:DAYLIGHT
DTSTART:20260420T190000
TZNAME:CEST
TZOFFSETTO:+0200
TZOFFSETFROM:+0200
END:DAYLIGHT
END:VTIMEZONE
END:VCALENDAR
